BEGIN:VCALENDAR
VERSION:2.0
PRODID:spatie/icalendar-generator
DESCRIPTION:大町市文化会館 エコーホール【公式】のイベ
 ント
X-WR-CALDESC:大町市文化会館 エコーホール【公式】のイベ
 ント
REFRESH-INTERVAL;VALUE=DURATION:PT1440M
X-PUBLISHED-TTL:PT1440M
BEGIN:VTIMEZONE
TZID:Asia/Tokyo
BEGIN:STANDARD
DTSTART:20170708T190000Z
TZOFFSETFROM:+0900
TZOFFSETTO:+0900
END:STANDARD
END:VTIMEZONE
BEGIN:VTIMEZONE
TZID:UTC
BEGIN:STANDARD
DTSTART:20250725T080455Z
TZOFFSETFROM:+0000
TZOFFSETTO:+0000
END:STANDARD
END:VTIMEZONE
BEGIN:VEVENT
UID:102-10
DTSTAMP:20260421T080455Z
SUMMARY:日本語教室
LOCATION:
ORGANIZER;CN=admin2:MAILTO:komagome@92inc.jp
DTSTART;TZID=Asia/Tokyo:20180404T190000
DTEND;TZID=Asia/Tokyo:20180404T213000
X-ALT-DESC;FMTTYPE=TEXT/HTML:
CATEGORIES:General
URL;VALUE=URI:https://echohall.jp/mc-events/%e6%97%a5%e6%9c%ac%e8%aa%9e%e6%
 95%99%e5%ae%a4/?mc_id=102
END:VEVENT
END:VCALENDAR