BEGIN:VCALENDAR
VERSION:2.0
PRODID:spatie/icalendar-generator
DESCRIPTION:大町市文化会館 エコーホール【公式】のイベ
 ント
X-WR-CALDESC:大町市文化会館 エコーホール【公式】のイベ
 ント
REFRESH-INTERVAL;VALUE=DURATION:PT1440M
X-PUBLISHED-TTL:PT1440M
BEGIN:VTIMEZONE
TZID:Asia/Tokyo
BEGIN:STANDARD
DTSTART:20170821T000000Z
TZOFFSETFROM:+0900
TZOFFSETTO:+0900
END:STANDARD
END:VTIMEZONE
BEGIN:VTIMEZONE
TZID:UTC
BEGIN:STANDARD
DTSTART:20250725T080348Z
TZOFFSETFROM:+0000
TZOFFSETTO:+0000
END:STANDARD
END:VTIMEZONE
BEGIN:VEVENT
UID:120-28
DTSTAMP:20260421T080348Z
SUMMARY:雪形まつり　リハーサル
LOCATION:
ORGANIZER;CN=admin2:MAILTO:komagome@92inc.jp
DTSTART;TZID=Asia/Tokyo;VALUE=DATE:20180518
DTEND;TZID=Asia/Tokyo;VALUE=DATE:20180519
X-ALT-DESC;FMTTYPE=TEXT/HTML:
CATEGORIES:General
URL;VALUE=URI:https://echohall.jp/mc-events/%e9%9b%aa%e5%bd%a2%e3%81%be%e3%
 81%a4%e3%82%8a%e3%80%80%e3%83%aa%e3%83%8f%e3%83%bc%e3%82%b5%e3%83%ab/?mc_i
 d=120
END:VEVENT
END:VCALENDAR